BEGIN:VCALENDAR
VERSION:2.0
PRODID:-//Guarderia Picolin - ECPv6.13.2.1//NONSGML v1.0//EN
CALSCALE:GREGORIAN
METHOD:PUBLISH
X-WR-CALNAME:Guarderia Picolin
X-ORIGINAL-URL:https://centropicolin.com
X-WR-CALDESC:Eventos para Guarderia Picolin
REFRESH-INTERVAL;VALUE=DURATION:PT1H
X-Robots-Tag:noindex
X-PUBLISHED-TTL:PT1H
BEGIN:VTIMEZONE
TZID:UTC
BEGIN:STANDARD
TZOFFSETFROM:+0000
TZOFFSETTO:+0000
TZNAME:UTC
DTSTART:20210101T000000
END:STANDARD
END:VTIMEZONE
BEGIN:VEVENT
DTSTART;VALUE=DATE:20210707
DTEND;VALUE=DATE:20250710
DTSTAMP:20260423T140446
CREATED:20210707T170825Z
LAST-MODIFIED:20210707T160759Z
UID:401-1625616000-1752105599@centropicolin.com
SUMMARY:Gran inauguración
DESCRIPTION:Abre sus puertas Centro Estimulacion Temprana Picolin \nEl Centro Estimulacion Temprana Picolin abrió sus puertas.
URL:https://centropicolin.com/eventos/gran-inauguracion/
LOCATION:Ensanche La Fe\, Santo Domingo\, Dominican Republic\, Calle Paseo Las Palmas 66-64\,Ensanche La Fe\, Santo Domingo\, Dominican Republic\, República Dominicana
ATTACH;FMTTYPE=image/jpeg:https://centropicolin.com/wp-content/uploads/2015/07/event3.jpg
END:VEVENT
END:VCALENDAR